BEGIN:VCALENDAR
VERSION:2.0
PRODID:-//Rainbow City Performing Arts - ECPv6.1.3//NONSGML v1.0//EN
CALSCALE:GREGORIAN
METHOD:PUBLISH
X-WR-CALNAME:Rainbow City Performing Arts
X-ORIGINAL-URL:https://rainbowcity.org
X-WR-CALDESC:Events for Rainbow City Performing Arts
REFRESH-INTERVAL;VALUE=DURATION:PT1H
X-Robots-Tag:noindex
X-PUBLISHED-TTL:PT1H
BEGIN:VTIMEZONE
TZID:America/Los_Angeles
BEGIN:DAYLIGHT
TZOFFSETFROM:-0800
TZOFFSETTO:-0700
TZNAME:PDT
DTSTART:20180311T100000
END:DAYLIGHT
BEGIN:STANDARD
TZOFFSETFROM:-0700
TZOFFSETTO:-0800
TZNAME:PST
DTSTART:20181104T090000
END:STANDARD
END:VTIMEZONE
BEGIN:VEVENT
DTSTART;TZID=America/Los_Angeles:20181020T173000
DTEND;TZID=America/Los_Angeles:20181020T220000
DTSTAMP:20231117T210937
CREATED:20180916T205611Z
LAST-MODIFIED:20181019T043656Z
UID:363-1540056600-1540072800@rainbowcity.org
SUMMARY:2018 Rainbow Ball Fundraising Gala and Concert
DESCRIPTION:Please join us as we present the 2018 Rainbow Ball and Gala Fundraiser and Concert\, an evening featuring dance-themed music\, dinner and fundraising on October 20\, 2018 at 5:30 p.m. at the Seattle Renaissance Hotel. \nAttendees will be treated to an elegant\, fun-filled evening including a cocktail reception\, dinner\, silent and live auctions\, and a full slate of concert band music. \nConcert band musical selections feature traditional and popular dance music including Danzon from Fancy Free (Bernstein)\, Symphonic Dance No. 3: Fiesta (Williams)\, Suite of Old American Dances (Bennett)\, and Just Dance (Lady Gaga) among others. \nProceeds go to Rainbow City Performing Arts (RCPA) to support community music\, purchase new instruments to expand the bands repertoire\, promote membership outreach\, and create a safe space for LGBTQA musicians of all levels to make music. \nFestive black tie and formal wear encouraged. The event will be hosted by Brian Calvert of KOMO News. \nThe evening doesn’t have to end after the auction! Treat yourself and your guest to a night at the elegant Renaissance Seattle Hotel with a special 15% discounted rate. Use promotional code K6Y at http://www.renaissanceseattle.com. \nThe Seattle Renaissance Hotel is located at 6th and Madison in Seattle.  Discounted self-parking is available for $15 in the hotel garage. \nTickets must be purchased in advance; be sure to make your meal selection when you complete your purchase (a vegetarian option is available). Tickets are $100 per person through October 10\, or $125 after October 10. \n \n  \nShare on FacebookTweetFollow us
URL:https://rainbowcity.org/events/2018-rainbow-ball-fundraising-gala-and-concert/
LOCATION:Seattle Renaissance Hotel\, 515 Madison St\, Seattle\, WA\, 98104\, United States
ORGANIZER;CN="Rainbow%20City%20Concert%20Band":MAILTO:info@rainbowcity.org
END:VEVENT
END:VCALENDAR