BEGIN:VCALENDAR
VERSION:2.0
PRODID:-//Rainbow City Performing Arts - ECPv6.1.3//NONSGML v1.0//EN
CALSCALE:GREGORIAN
METHOD:PUBLISH
X-ORIGINAL-URL:https://rainbowcity.org
X-WR-CALDESC:Events for Rainbow City Performing Arts
REFRESH-INTERVAL;VALUE=DURATION:PT1H
X-Robots-Tag:noindex
X-PUBLISHED-TTL:PT1H
BEGIN:VTIMEZONE
TZID:America/Los_Angeles
BEGIN:DAYLIGHT
TZOFFSETFROM:-0800
TZOFFSETTO:-0700
TZNAME:PDT
DTSTART:20240310T100000
END:DAYLIGHT
BEGIN:STANDARD
TZOFFSETFROM:-0700
TZOFFSETTO:-0800
TZNAME:PST
DTSTART:20241103T090000
END:STANDARD
END:VTIMEZONE
BEGIN:VEVENT
DTSTART;TZID=America/Los_Angeles:20240202T193000
DTEND;TZID=America/Los_Angeles:20240202T213000
DTSTAMP:20231117T223823
CREATED:20230729T063326Z
LAST-MODIFIED:20231117T051419Z
UID:2878-1706902200-1706909400@rainbowcity.org
SUMMARY:Spectrum of Identity
DESCRIPTION:Rainbow City Jazz Band is proud to join the holiday tradition of Winterfest at Seattle Center for the first time! In this free concert at the Armory\, we present Duke Ellington and Billy Strayhorn’s Jazz Nutcracker which is an exciting take on such a classic Christmastime favorite. Their arrangement of Tchaikovsky’s famous ballet will have you tappin’ your toes and feeling good as we swing you into the holiday season. The band will also play a handful of other favorites that will brighten your holiday spirit and hopefully get you out on the dance floor! \nRainbow City Jazz Band is a jazz band that plays swing and other genres of music for various events and audiences in the Puget Sound region. The band is part of Rainbow City Performing Arts\, an organization that supports LGBTQIA+ and diverse musicians. The band has 18 members who play saxophones\, trumpets\, trombones\, and rhythm instruments. The band rehearses in the University District and performs gigs throughout the region. The band loves to make people dance and enjoy their music! This is the 20th anniversary year since the band was founded and it has been a strong and important part of Rainbow City Performing Arts ever since. \nRainbow City Performing Arts (RCPA) is a nonprofit organization that celebrates LGBTQIA+ diversity and inclusion through musical expression. RCPA consists of seven performance ensembles that play various genres of music\, such as jazz\, marching band\, and orchestra. RCPA’s mission is to create a safe and supportive environment for musicians of all identities\, skills\, and backgrounds\, and to promote the equity and visibility of LGBTQIA+ people in the community. RCPA also supports young and marginalized artists by commissioning new works and providing instruments and scholarships.
URL:https://rainbowcity.org/events/spectrum-of-identity/
LOCATION:Benaroya Hall\, 200 University St\, Seattle\, WA\, 98101\, United States
CATEGORIES:Rainbow City Concert Band,Rainbow City Orchestra
ATTACH;FMTTYPE=image/png:https://rainbowcity.org/wp-content/uploads/2023/07/IDENTITY_Benaroya_web.png
ORGANIZER;CN="Rainbow%20City%20Concert%20Band":MAILTO:info@rainbowcity.org
END:VEVENT
END:VCALENDAR