BEGIN:VCALENDAR
VERSION:2.0
PRODID:-//Rainbow City Performing Arts - ECPv6.1.3//NONSGML v1.0//EN
CALSCALE:GREGORIAN
METHOD:PUBLISH
X-WR-CALNAME:Rainbow City Performing Arts
X-ORIGINAL-URL:https://rainbowcity.org
X-WR-CALDESC:Events for Rainbow City Performing Arts
REFRESH-INTERVAL;VALUE=DURATION:PT1H
X-Robots-Tag:noindex
X-PUBLISHED-TTL:PT1H
BEGIN:VTIMEZONE
TZID:America/Los_Angeles
BEGIN:DAYLIGHT
TZOFFSETFROM:-0800
TZOFFSETTO:-0700
TZNAME:PDT
DTSTART:20230312T100000
END:DAYLIGHT
BEGIN:STANDARD
TZOFFSETFROM:-0700
TZOFFSETTO:-0800
TZNAME:PST
DTSTART:20231105T090000
END:STANDARD
END:VTIMEZONE
BEGIN:VEVENT
DTSTART;TZID=America/Los_Angeles:20230820T140000
DTEND;TZID=America/Los_Angeles:20230820T163000
DTSTAMP:20231117T211029
CREATED:20230530T050724Z
LAST-MODIFIED:20230714T231507Z
UID:2239-1692540000-1692549000@rainbowcity.org
SUMMARY:Alki Beach Pride 2023
DESCRIPTION:Hear the marching band stay in one place to play our full set of music from the summer season for the Alki Beach Pride festival! \nRainbow City Marching Band and Rainbow City Color Guard are two of the performance ensembles of Rainbow City Performing Arts. They perform at various parades\, festivals\, and community events throughout the year\, bringing joy and color to the streets. Rainbow City Marching Band plays a variety of music\, from pop to classical\, with a focus on fun and entertainment. Rainbow City Color Guard adds visual flair and movement to the band’s music\, using flags\, sabers\, and dance. Together\, they create a dynamic and diverse show that celebrates LGBTQIA+ pride and inclusion. \nRainbow City Performing Arts (RCPA) is a nonprofit organization that celebrates LGBTQIA+ diversity and inclusion through musical expression. RCPA consists of seven performance ensembles that play various genres of music\, such as jazz\, orchestra\, sports band\, and drumline. RCPA’s mission is to create a safe and supportive environment for musicians of all identities\, skills\, and backgrounds\, and to promote the equity and visibility of LGBTQIA+ people in the community. RCPA also supports young and marginalized artists by commissioning new works and providing instruments and scholarships. \nWant to join us and help volunteer to support our musicians? Signup for a volunteer spot at this link. \nShare on FacebookTweetFollow us
URL:https://rainbowcity.org/events/alki-beach-pride-2023/
LOCATION:Whale Tail Park\, 5817 SW Lander St\, Seattle\, WA\, 98116\, United States
CATEGORIES:Rainbow City Color Guard,Rainbow City Drumline,Rainbow City Marching Band
ATTACH;FMTTYPE=image/png:https://rainbowcity.org/wp-content/uploads/2023/06/Alki-Beach-Pride.png
ORGANIZER;CN="Rainbow%20City%20Marching%20Band":MAILTO:info@rainbowcity.org
END:VEVENT
END:VCALENDAR