BEGIN:VCALENDAR
VERSION:2.0
PRODID:-//Rainbow City Performing Arts - ECPv6.1.3//NONSGML v1.0//EN
CALSCALE:GREGORIAN
METHOD:PUBLISH
X-WR-CALNAME:Rainbow City Performing Arts
X-ORIGINAL-URL:https://rainbowcity.org
X-WR-CALDESC:Events for Rainbow City Performing Arts
REFRESH-INTERVAL;VALUE=DURATION:PT1H
X-Robots-Tag:noindex
X-PUBLISHED-TTL:PT1H
BEGIN:VTIMEZONE
TZID:America/Los_Angeles
BEGIN:DAYLIGHT
TZOFFSETFROM:-0800
TZOFFSETTO:-0700
TZNAME:PDT
DTSTART:20230312T100000
END:DAYLIGHT
BEGIN:STANDARD
TZOFFSETFROM:-0700
TZOFFSETTO:-0800
TZNAME:PST
DTSTART:20231105T090000
END:STANDARD
END:VTIMEZONE
BEGIN:VEVENT
DTSTART;TZID=America/Los_Angeles:20230728T170000
DTEND;TZID=America/Los_Angeles:20230728T200000
DTSTAMP:20231117T210829
CREATED:20230530T050300Z
LAST-MODIFIED:20230606T093245Z
UID:2236-1690563600-1690574400@rainbowcity.org
SUMMARY:All-City Band Jam 2023
DESCRIPTION:Bands from all over the area converge in Seattle to perform for one another\, and for our friends and families. See a variety of groups perform in this fun band festival hosted by Seattle School District’s All-City Band! \nShare on FacebookTweetFollow us
URL:https://rainbowcity.org/events/all-city-band-jam-2023/
LOCATION:Memorial Stadium\, 401 5th Ave N\, Seattle\, WA\, 98109\, United States
CATEGORIES:Rainbow City Color Guard,Rainbow City Drumline,Rainbow City Marching Band
ATTACH;FMTTYPE=image/jpeg:https://rainbowcity.org/wp-content/uploads/2022/09/Marching-Band-All-Cropped.jpg
ORGANIZER;CN="Rainbow%20City%20Marching%20Band":MAILTO:info@rainbowcity.org
END:VEVENT
END:VCALENDAR