BEGIN:VCALENDAR
VERSION:2.0
PRODID:-//Rainbow City Performing Arts - ECPv6.1.3//NONSGML v1.0//EN
CALSCALE:GREGORIAN
METHOD:PUBLISH
X-WR-CALNAME:Rainbow City Performing Arts
X-ORIGINAL-URL:https://rainbowcity.org
X-WR-CALDESC:Events for Rainbow City Performing Arts
REFRESH-INTERVAL;VALUE=DURATION:PT1H
X-Robots-Tag:noindex
X-PUBLISHED-TTL:PT1H
BEGIN:VTIMEZONE
TZID:America/Los_Angeles
BEGIN:DAYLIGHT
TZOFFSETFROM:-0800
TZOFFSETTO:-0700
TZNAME:PDT
DTSTART:20220313T100000
END:DAYLIGHT
BEGIN:STANDARD
TZOFFSETFROM:-0700
TZOFFSETTO:-0800
TZNAME:PST
DTSTART:20221106T090000
END:STANDARD
END:VTIMEZONE
BEGIN:VEVENT
DTSTART;TZID=America/Los_Angeles:20221029T190000
DTEND;TZID=America/Los_Angeles:20221029T190000
DTSTAMP:20231117T210942
CREATED:20220930T031549Z
LAST-MODIFIED:20221010T161200Z
UID:1815-1667070000-1667070000@rainbowcity.org
SUMMARY:Bump in the Night
DESCRIPTION:Join us for an evening of thrills\, chills\, and trills as the Rainbow City Concert Band kicks off its first performance of our 25th Anniversary Season entitled\, “Play On!”  Our first concert of the season will be an evening of light frights and spooky delights as we discover what goes Bump in the Night! This phantasmal celebration will include autumnal favorites such as Eric Whitacre’s October\, Frank Ticheli’s Abracadabra\, Camille Saint-Saen’s Danse Macabre\, and more! \nJoin us at Highline Performing Arts Center in Burien\, WA on October 29th at 7pm for what’s sure to be a fun and memorable night for the whole family!  \nBring your costume and join us for some Halloween fun!\n \n\n\n \n \nShare on FacebookTweetFollow us
URL:https://rainbowcity.org/events/bump-in-the-night/
LOCATION:Highline Performing Arts Center\, 401 S 152nd St\, Burien\, WA\, 98148\, United States
CATEGORIES:Rainbow City Concert Band
ATTACH;FMTTYPE=image/png:https://rainbowcity.org/wp-content/uploads/2022/09/Bump_title.png
ORGANIZER;CN="Rainbow%20City%20Concert%20Band":MAILTO:info@rainbowcity.org
END:VEVENT
END:VCALENDAR