BEGIN:VCALENDAR
VERSION:2.0
PRODID:-//Rainbow City Performing Arts - ECPv6.1.3//NONSGML v1.0//EN
CALSCALE:GREGORIAN
METHOD:PUBLISH
X-WR-CALNAME:Rainbow City Performing Arts
X-ORIGINAL-URL:https://rainbowcity.org
X-WR-CALDESC:Events for Rainbow City Performing Arts
REFRESH-INTERVAL;VALUE=DURATION:PT1H
X-Robots-Tag:noindex
X-PUBLISHED-TTL:PT1H
BEGIN:VTIMEZONE
TZID:America/Los_Angeles
BEGIN:DAYLIGHT
TZOFFSETFROM:-0800
TZOFFSETTO:-0700
TZNAME:PDT
DTSTART:20230312T100000
END:DAYLIGHT
BEGIN:STANDARD
TZOFFSETFROM:-0700
TZOFFSETTO:-0800
TZNAME:PST
DTSTART:20231105T090000
END:STANDARD
END:VTIMEZONE
BEGIN:VEVENT
DTSTART;TZID=America/Los_Angeles:20231216T190000
DTEND;TZID=America/Los_Angeles:20231216T210000
DTSTAMP:20231117T223014
CREATED:20231028T161529Z
LAST-MODIFIED:20231117T062018Z
UID:3172-1702753200-1702760400@rainbowcity.org
SUMMARY:A Gift of Music
DESCRIPTION:Join the musicians of Rainbow City Performing Arts in a lovely evening celebrating the holidays with diverse offerings of music to celebrate many end-of-year traditions. The theme of this concert is "gift giving" in a multitude of contexts. This may refer to birthdays\, anniversaries\, Christmas\, Hannukah\, Kwanza\, or others. \nThis event is free to attend with a suggested donation to help support the Rainbow City Scholarship Fund. \nMusicians of our chamber groups come from all seven of our performing ensembles and chamber music brings together members from across the organization. Chamber music offers new and different opportunities for learning and connection. It also provides a firmer sense of belonging for members. This is a growing program within Rainbow City and we are proud to continue to support our members in forming their own ensembles. \n\n	\n\n\n	\n		\n			\n					\n						REGISTER FOR THE EVENT
URL:https://rainbowcity.org/events/a-gift-of-music-2023/
LOCATION:University Congregational UCC\, 4515 16th Ave NE\, Seattle\, Washington\, 98105\, United States
CATEGORIES:Chamber Ensembles
ATTACH;FMTTYPE=image/png:https://rainbowcity.org/wp-content/uploads/2023/10/A-Gift-of-Music-Graphic.png
ORGANIZER;CN="Rainbow%20City%20Performing%20Arts":MAILTO:info@rainbowcity.org
END:VEVENT
END:VCALENDAR