BEGIN:VCALENDAR
VERSION:2.0
PRODID:-//Rainbow City Performing Arts - ECPv6.1.3//NONSGML v1.0//EN
CALSCALE:GREGORIAN
METHOD:PUBLISH
X-WR-CALNAME:Rainbow City Performing Arts
X-ORIGINAL-URL:https://rainbowcity.org
X-WR-CALDESC:Events for Rainbow City Performing Arts
REFRESH-INTERVAL;VALUE=DURATION:PT1H
X-Robots-Tag:noindex
X-PUBLISHED-TTL:PT1H
BEGIN:VTIMEZONE
TZID:America/Los_Angeles
BEGIN:DAYLIGHT
TZOFFSETFROM:-0800
TZOFFSETTO:-0700
TZNAME:PDT
DTSTART:20230312T100000
END:DAYLIGHT
BEGIN:STANDARD
TZOFFSETFROM:-0700
TZOFFSETTO:-0800
TZNAME:PST
DTSTART:20231105T090000
END:STANDARD
BEGIN:DAYLIGHT
TZOFFSETFROM:-0800
TZOFFSETTO:-0700
TZNAME:PDT
DTSTART:20240310T100000
END:DAYLIGHT
BEGIN:STANDARD
TZOFFSETFROM:-0700
TZOFFSETTO:-0800
TZNAME:PST
DTSTART:20241103T090000
END:STANDARD
END:VTIMEZONE
BEGIN:VEVENT
DTSTART;TZID=America/Los_Angeles:20231117T193000
DTEND;TZID=America/Los_Angeles:20231117T213000
DTSTAMP:20231117T205300
CREATED:20230727T152016Z
LAST-MODIFIED:20231117T152259Z
UID:2866-1700249400-1700256600@rainbowcity.org
SUMMARY:Spectrum of Color
DESCRIPTION:The Rainbow City Concert Band and Orchestra present music inspired by the spectrum of different cultures living in our own community. The evening includes collaborative performances with the Tacoma Refugee Choir and Zje Mongolian Music Ensemble. Do not miss this exhilarating season finale\, celebrating the rich and vital diversity of music and culture! \n\n	\n\n\n	\n		\n			\n					\n						PURCHASE TICKETS\n					\n\n	\n\n\n	\n		\n	The Rainbow City Concert Band and Rainbow City Orchestra are two of the many ensembles in Rainbow City Performing Arts\, a nonprofit with a mission of increasing equity and visibility of LGBTQIA+ people. Performing many styles of music\, they focus their performance on music of marginalized composers and themes that uplift through diverse expression  of music. \n\n	\n\n\n	\n		\n	\n				\n					\n	\n	\n\n\n\n	\n		\n	\n\n\n	\n						\n		\n\n			\n	\n	\n		\n		\n		Seating Options		\n			Seats are available in three tiers. \nTier 1     $50        Sections L1\, C1\, R1\, C2 \nTier 2     $40        Sections L2\, R2\, L3\, C3\, R3\, C4 \nTier 3     $30        Sections L4\, R4\, L5\, C5\, R5 \nSenior citizens: Tickets are available for $20 (age 65+). \nYouth/Students/Teachers: Tickets are available for $15.
URL:https://rainbowcity.org/events/spectrum-of-color/
LOCATION:Benaroya Hall\, 200 University St\, Seattle\, WA\, 98101\, United States
CATEGORIES:Rainbow City Concert Band,Rainbow City Orchestra
ATTACH;FMTTYPE=image/png:https://rainbowcity.org/wp-content/uploads/2023/07/COLOR_Benaroya_web.png
ORGANIZER;CN="Rainbow%20City%20Concert%20Band":MAILTO:info@rainbowcity.org
END:VEVENT
BEGIN:VEVENT
DTSTART;TZID=America/Los_Angeles:20240202T193000
DTEND;TZID=America/Los_Angeles:20240202T213000
DTSTAMP:20231117T205300
CREATED:20230729T063326Z
LAST-MODIFIED:20231117T051419Z
UID:2878-1706902200-1706909400@rainbowcity.org
SUMMARY:Spectrum of Identity
DESCRIPTION:The Rainbow City Concert Band and Orchestra present music inspired by the spectrum of different cultures living in our own community. The evening includes collaborative performances with the Tacoma Refugee Choir and Zje Mongolian Music Ensemble. Do not miss this exhilarating season finale\, celebrating the rich and vital diversity of music and culture! \n\n	\n\n\n	\n		\n			\n					\n						PURCHASE TICKETS\n					\n\n	\n\n\n	\n		\n	The Rainbow City Concert Band and Rainbow City Orchestra are two of the many ensembles in Rainbow City Performing Arts\, a nonprofit with a mission of increasing equity and visibility of LGBTQIA+ people. Performing many styles of music\, they focus their performance on music of marginalized composers and themes that uplift through diverse expression  of music. \n\n	\n\n\n	\n		\n	\n				\n					\n	\n	\n\n\n\n	\n		\n	\n\n\n	\n						\n		\n\n			\n	\n	\n		\n		\n		Seating Options		\n			Seats are available in three tiers. \nTier 1     $50        Sections L1\, C1\, R1\, C2 \nTier 2     $40        Sections L2\, R2\, L3\, C3\, R3\, C4 \nTier 3     $30        Sections L4\, R4\, L5\, C5\, R5 \nSenior citizens: Tickets are available for $20 (age 65+). \nYouth/Students/Teachers: Tickets are available for $15.
URL:https://rainbowcity.org/events/spectrum-of-identity/
LOCATION:Benaroya Hall\, 200 University St\, Seattle\, WA\, 98101\, United States
CATEGORIES:Rainbow City Concert Band,Rainbow City Orchestra
ATTACH;FMTTYPE=image/png:https://rainbowcity.org/wp-content/uploads/2023/07/IDENTITY_Benaroya_web.png
ORGANIZER;CN="Rainbow%20City%20Concert%20Band":MAILTO:info@rainbowcity.org
END:VEVENT
BEGIN:VEVENT
DTSTART;TZID=America/Los_Angeles:20240412T193000
DTEND;TZID=America/Los_Angeles:20240412T213000
DTSTAMP:20231117T205300
CREATED:20230729T063752Z
LAST-MODIFIED:20231117T152429Z
UID:2882-1712950200-1712957400@rainbowcity.org
SUMMARY:Spectrum of Culture
DESCRIPTION:The Rainbow City Concert Band and Orchestra present music inspired by the spectrum of different cultures living in our own community. The evening includes collaborative performances with the Tacoma Refugee Choir and Zje Mongolian Music Ensemble. Do not miss this exhilarating season finale\, celebrating the rich and vital diversity of music and culture! \n\n	\n\n\n	\n		\n			\n					\n						PURCHASE TICKETS\n					\n\n	\n\n\n	\n		\n	The Rainbow City Concert Band and Rainbow City Orchestra are two of the many ensembles in Rainbow City Performing Arts\, a nonprofit with a mission of increasing equity and visibility of LGBTQIA+ people. Performing many styles of music\, they focus their performance on music of marginalized composers and themes that uplift through diverse expression  of music. \n\n	\n\n\n	\n		\n	\n				\n					\n	\n	\n\n\n\n	\n		\n	\n\n\n	\n						\n		\n\n			\n	\n	\n		\n		\n		Seating Options		\n			Seats are available in three tiers. \nTier 1     $50        Sections L1\, C1\, R1\, C2 \nTier 2     $40        Sections L2\, R2\, L3\, C3\, R3\, C4 \nTier 3     $30        Sections L4\, R4\, L5\, C5\, R5 \nSenior citizens: Tickets are available for $20 (age 65+). \nYouth/Students/Teachers: Tickets are available for $15.
URL:https://rainbowcity.org/events/spectrum-of-culture/
LOCATION:Benaroya Hall\, 200 University St\, Seattle\, WA\, 98101\, United States
CATEGORIES:Rainbow City Concert Band,Rainbow City Orchestra
ATTACH;FMTTYPE=image/png:https://rainbowcity.org/wp-content/uploads/2023/07/CULTURE_Benaroya_web.png
ORGANIZER;CN="Rainbow%20City%20Concert%20Band":MAILTO:info@rainbowcity.org
END:VEVENT
END:VCALENDAR