BEGIN:VCALENDAR
VERSION:2.0
PRODID:-//Rainbow City Performing Arts - ECPv6.1.3//NONSGML v1.0//EN
CALSCALE:GREGORIAN
METHOD:PUBLISH
X-WR-CALNAME:Rainbow City Performing Arts
X-ORIGINAL-URL:https://rainbowcity.org
X-WR-CALDESC:Events for Rainbow City Performing Arts
REFRESH-INTERVAL;VALUE=DURATION:PT1H
X-Robots-Tag:noindex
X-PUBLISHED-TTL:PT1H
BEGIN:VTIMEZONE
TZID:America/Los_Angeles
BEGIN:DAYLIGHT
TZOFFSETFROM:-0800
TZOFFSETTO:-0700
TZNAME:PDT
DTSTART:20200308T100000
END:DAYLIGHT
BEGIN:STANDARD
TZOFFSETFROM:-0700
TZOFFSETTO:-0800
TZNAME:PST
DTSTART:20201101T090000
END:STANDARD
END:VTIMEZONE
BEGIN:VEVENT
DTSTART;TZID=America/Los_Angeles:20200125T190000
DTEND;TZID=America/Los_Angeles:20200125T210000
DTSTAMP:20231117T210913
CREATED:20191024T044355Z
LAST-MODIFIED:20200106T212713Z
UID:1028-1579978800-1579986000@rainbowcity.org
SUMMARY:Concert: Playing Games
DESCRIPTION:Play is such a natural part of human interaction. Our Playing Games concert sets forth to explore all different types of play. To pass the time\, to build stronger relationships\, to express joy\, or to process sorrow\, play is a fundamental part of life. \nWe’ll be celebrating games dating from Ancient Greece to the 21st century\, giving our audience an immersive gameplay experience. It’s a concert you won’t forget! \nPlaying Games will be presented at Broadway Performance Hall in Seattle on Saturday\, January 25 at 7 pm. \n \nShare on FacebookTweetFollow us
URL:https://rainbowcity.org/events/concert-playing-games/
LOCATION:Broadway Performance Hall\, 1625 Broadway\, Seattle\, WA\, 98122\, United States
ORGANIZER;CN="Rainbow%20City%20Concert%20Band":MAILTO:info@rainbowcity.org
END:VEVENT
END:VCALENDAR