BEGIN:VCALENDAR
VERSION:2.0
PRODID:-//Rainbow City Performing Arts - ECPv6.1.3//NONSGML v1.0//EN
CALSCALE:GREGORIAN
METHOD:PUBLISH
X-WR-CALNAME:Rainbow City Performing Arts
X-ORIGINAL-URL:https://rainbowcity.org
X-WR-CALDESC:Events for Rainbow City Performing Arts
REFRESH-INTERVAL;VALUE=DURATION:PT1H
X-Robots-Tag:noindex
X-PUBLISHED-TTL:PT1H
BEGIN:VTIMEZONE
TZID:America/Los_Angeles
BEGIN:DAYLIGHT
TZOFFSETFROM:-0800
TZOFFSETTO:-0700
TZNAME:PDT
DTSTART:20190310T100000
END:DAYLIGHT
BEGIN:STANDARD
TZOFFSETFROM:-0700
TZOFFSETTO:-0800
TZNAME:PST
DTSTART:20191103T090000
END:STANDARD
END:VTIMEZONE
BEGIN:VEVENT
DTSTART;TZID=America/Los_Angeles:20190903T190000
DTEND;TZID=America/Los_Angeles:20190903T213000
DTSTAMP:20231117T210653
CREATED:20190714T155032Z
LAST-MODIFIED:20190714T155032Z
UID:806-1567537200-1567546200@rainbowcity.org
SUMMARY:First Rehearsal - Come Out and Play!
DESCRIPTION:For the first rehearsal of our concert season\, we have an open reading – anyone is welcome to come sight-read music with us as we start preparing for the first concert of the season. Thinking about joining us? Come find out who we are and what we do at our annual no-pressure\, no-obligation Come Out and Play night. \nShare on FacebookTweetFollow us
URL:https://rainbowcity.org/events/first-rehearsal-come-out-and-play/
LOCATION:Wedgwood Community Church\, 8201 30th Ave NE\, Seattle\, WA\, 98115\, United States
ORGANIZER;CN="Rainbow%20City%20Concert%20Band":MAILTO:info@rainbowcity.org
END:VEVENT
END:VCALENDAR