BEGIN:VCALENDAR
VERSION:2.0
PRODID:-//Rainbow City Performing Arts - ECPv6.1.3//NONSGML v1.0//EN
CALSCALE:GREGORIAN
METHOD:PUBLISH
X-WR-CALNAME:Rainbow City Performing Arts
X-ORIGINAL-URL:https://rainbowcity.org
X-WR-CALDESC:Events for Rainbow City Performing Arts
REFRESH-INTERVAL;VALUE=DURATION:PT1H
X-Robots-Tag:noindex
X-PUBLISHED-TTL:PT1H
BEGIN:VTIMEZONE
TZID:America/Los_Angeles
BEGIN:DAYLIGHT
TZOFFSETFROM:-0800
TZOFFSETTO:-0700
TZNAME:PDT
DTSTART:20180311T100000
END:DAYLIGHT
BEGIN:STANDARD
TZOFFSETFROM:-0700
TZOFFSETTO:-0800
TZNAME:PST
DTSTART:20181104T090000
END:STANDARD
END:VTIMEZONE
BEGIN:VEVENT
DTSTART;TZID=America/Los_Angeles:20181208T150000
DTEND;TZID=America/Los_Angeles:20181208T160000
DTSTAMP:20231117T211055
CREATED:20180925T031246Z
LAST-MODIFIED:20181016T120648Z
UID:517-1544281200-1544284800@rainbowcity.org
SUMMARY:Flûtrange at SHAG Cedar Park Senior Center
DESCRIPTION:Flûtrange\, RCPA’s flute choir\, brings music to the holiday season at SHAG Cedar Park Senior Center. \nStart time is subject to change; check back to confirm the performance time! \nShare on FacebookTweetFollow us
URL:https://rainbowcity.org/events/flutrange-at-shag-cedar-park-senior-center/
LOCATION:SHAG Cedar Park Senior Center\, 12740 30th Ave NE\, Seattle\, WA\, 98125\, United States
ORGANIZER;CN="Fl%C3%BBtrange":MAILTO:info@rainbowcity.org
END:VEVENT
END:VCALENDAR