BEGIN:VCALENDAR
VERSION:2.0
PRODID:-//Rainbow City Performing Arts - ECPv6.1.3//NONSGML v1.0//EN
CALSCALE:GREGORIAN
METHOD:PUBLISH
X-WR-CALNAME:Rainbow City Performing Arts
X-ORIGINAL-URL:https://rainbowcity.org
X-WR-CALDESC:Events for Rainbow City Performing Arts
REFRESH-INTERVAL;VALUE=DURATION:PT1H
X-Robots-Tag:noindex
X-PUBLISHED-TTL:PT1H
BEGIN:VTIMEZONE
TZID:America/Los_Angeles
BEGIN:DAYLIGHT
TZOFFSETFROM:-0800
TZOFFSETTO:-0700
TZNAME:PDT
DTSTART:20230312T100000
END:DAYLIGHT
BEGIN:STANDARD
TZOFFSETFROM:-0700
TZOFFSETTO:-0800
TZNAME:PST
DTSTART:20231105T090000
END:STANDARD
END:VTIMEZONE
BEGIN:VEVENT
DTSTART;VALUE=DATE:20230502
DTEND;VALUE=DATE:20230504
DTSTAMP:20231117T210737
CREATED:20230413T005313Z
LAST-MODIFIED:20230430T235358Z
UID:2153-1682985600-1683158399@rainbowcity.org
SUMMARY:GiveBIG 2023 | RCPA
DESCRIPTION:Support RCPA during GiveBIG 2023\n	\n	\n\n\n	\n		\n	\n	\n\n\n	\n		\n	Mark your calendar for GiveBIG 2023\, Washington’s BIG online giving marathon. People like you will join forces during this statewide campaign to support the causes and communities they care about. Support RCPA and show your support to help us raise $15\,000! \nYou can join in by visiting the GiveBIG website to plan your giving. Share the news of your support on social media! Do not forget to follow up with your employer if they have an employee matching program. \nHow it works \n\nGiveBIG is an annual statewide fundraising campaign where individuals and organizations unite across Washington to invest in our communities. In 2022 GiveBIG helped over 15\,000 nonprofits raise $14.8 million. \nGiveBIG 2023 will kick off on April 18 and culminate in a 48-hour giving event on May 2-3!
URL:https://rainbowcity.org/events/givebig-2023-rcpa/
ATTACH;FMTTYPE=image/png:https://rainbowcity.org/wp-content/uploads/2023/04/Untitled-design-3.png
ORGANIZER;CN="Rainbow%20City%20Performing%20Arts":MAILTO:info@rainbowcity.org
END:VEVENT
END:VCALENDAR