BEGIN:VCALENDAR
VERSION:2.0
PRODID:-//Rainbow City Performing Arts - ECPv6.1.3//NONSGML v1.0//EN
CALSCALE:GREGORIAN
METHOD:PUBLISH
X-WR-CALNAME:Rainbow City Performing Arts
X-ORIGINAL-URL:https://rainbowcity.org
X-WR-CALDESC:Events for Rainbow City Performing Arts
REFRESH-INTERVAL;VALUE=DURATION:PT1H
X-Robots-Tag:noindex
X-PUBLISHED-TTL:PT1H
BEGIN:VTIMEZONE
TZID:America/Los_Angeles
BEGIN:DAYLIGHT
TZOFFSETFROM:-0800
TZOFFSETTO:-0700
TZNAME:PDT
DTSTART:20200308T100000
END:DAYLIGHT
BEGIN:STANDARD
TZOFFSETFROM:-0700
TZOFFSETTO:-0800
TZNAME:PST
DTSTART:20201101T090000
END:STANDARD
END:VTIMEZONE
BEGIN:VEVENT
DTSTART;VALUE=DATE:20200505
DTEND;VALUE=DATE:20200507
DTSTAMP:20231117T211023
CREATED:20200411T212945Z
LAST-MODIFIED:20200411T213124Z
UID:1141-1588636800-1588809599@rainbowcity.org
SUMMARY:GiveBIG 2020
DESCRIPTION:GiveBIG is an online giving campaign promoting philanthropy across Washington State. For 2020\, organizers have extended the main event to 48 hours – May 5 and 6\, 2020 – and early giving begins April 15. \nRCPA is one of many organizations participating in GiveBIG this year. Read more about our campaign\, and support us\, by visiting our GiveBIG page\, and join us in philanthropic support of RCPA and the community at large this May! \nhttps://www.givebigwa.org/rcpa \nShare on FacebookTweetFollow us
URL:https://rainbowcity.org/events/givebig/
ORGANIZER;CN="Rainbow%20City%20Performing%20Arts":MAILTO:info@rainbowcity.org
END:VEVENT
END:VCALENDAR