BEGIN:VCALENDAR
VERSION:2.0
PRODID:-//Rainbow City Performing Arts - ECPv6.1.3//NONSGML v1.0//EN
CALSCALE:GREGORIAN
METHOD:PUBLISH
X-WR-CALNAME:Rainbow City Performing Arts
X-ORIGINAL-URL:https://rainbowcity.org
X-WR-CALDESC:Events for Rainbow City Performing Arts
REFRESH-INTERVAL;VALUE=DURATION:PT1H
X-Robots-Tag:noindex
X-PUBLISHED-TTL:PT1H
BEGIN:VTIMEZONE
TZID:America/Los_Angeles
BEGIN:DAYLIGHT
TZOFFSETFROM:-0800
TZOFFSETTO:-0700
TZNAME:PDT
DTSTART:20190310T100000
END:DAYLIGHT
BEGIN:STANDARD
TZOFFSETFROM:-0700
TZOFFSETTO:-0800
TZNAME:PST
DTSTART:20191103T090000
END:STANDARD
END:VTIMEZONE
BEGIN:VEVENT
DTSTART;TZID=America/Los_Angeles:20191228T193000
DTEND;TZID=America/Los_Angeles:20191228T213000
DTSTAMP:20231117T210948
CREATED:20190922T155011Z
LAST-MODIFIED:20190922T155011Z
UID:1011-1577561400-1577568600@rainbowcity.org
SUMMARY:Holiday Happiness with PPSB
DESCRIPTION:Celebrate the holidays with music and dancing! Rainbow City Jazz Band plays great swing tunes; the dancing is up to you! Free event. \nShare on FacebookTweetFollow us
URL:https://rainbowcity.org/events/holiday-happiness-with-ppsb/
LOCATION:Third Place Books\, 17171 Bothell Way NE\, Lake Forest Park\, WA\, 98155\, United States
END:VEVENT
END:VCALENDAR