BEGIN:VCALENDAR
VERSION:2.0
PRODID:-//Rainbow City Performing Arts - ECPv6.1.3//NONSGML v1.0//EN
CALSCALE:GREGORIAN
METHOD:PUBLISH
X-WR-CALNAME:Rainbow City Performing Arts
X-ORIGINAL-URL:https://rainbowcity.org
X-WR-CALDESC:Events for Rainbow City Performing Arts
REFRESH-INTERVAL;VALUE=DURATION:PT1H
X-Robots-Tag:noindex
X-PUBLISHED-TTL:PT1H
BEGIN:VTIMEZONE
TZID:America/Los_Angeles
BEGIN:DAYLIGHT
TZOFFSETFROM:-0800
TZOFFSETTO:-0700
TZNAME:PDT
DTSTART:20230312T100000
END:DAYLIGHT
BEGIN:STANDARD
TZOFFSETFROM:-0700
TZOFFSETTO:-0800
TZNAME:PST
DTSTART:20231105T090000
END:STANDARD
END:VTIMEZONE
BEGIN:VEVENT
DTSTART;TZID=America/Los_Angeles:20230506T190000
DTEND;TZID=America/Los_Angeles:20230506T210000
DTSTAMP:20231117T210754
CREATED:20220930T015036Z
LAST-MODIFIED:20230402T002037Z
UID:1827-1683399600-1683406800@rainbowcity.org
SUMMARY:If the Shoe Fits: Glass Slipper
DESCRIPTION:Join the Rainbow City Orchestra for our season finale at the beautiful Bastyr Chapel. This collaborative performance with the Seattle Children's Chorus and the Seattle Pacific University Orchestra includes music inspired by the fairy tale Cinderella. We are honored to provide the North American premiere of Charles Stanford's "Fairy Day" as well as the Northwest premiere of Gabriele Cardinali's "Cinderella." \nCome explore the world of fairies and folklore with RCO Saturday\, May 6th at 7:00pm at the Bastyr University Chapel at 14500 Juanita Dr NE\, Kenmore\, WA 98028. Doors open at 6:30 pm. More information and tickets can be found at our website\, rainbowcityband.com. Tickets purchased at the door will have an upcharge of $5 per ticket\, so purchase your tickets now!
URL:https://rainbowcity.org/events/if-the-shoe-fits-glass-slipper/
LOCATION:Bastyr Chapel\, 14500 Juanita Dr NE\, Kenmore\, Washington\, 98028\, United States
CATEGORIES:Rainbow City Orchestra
ATTACH;FMTTYPE=image/png:https://rainbowcity.org/wp-content/uploads/2022/09/GS_Title.png
END:VEVENT
END:VCALENDAR