BEGIN:VCALENDAR
VERSION:2.0
PRODID:-//Rainbow City Performing Arts - ECPv6.1.3//NONSGML v1.0//EN
CALSCALE:GREGORIAN
METHOD:PUBLISH
X-WR-CALNAME:Rainbow City Performing Arts
X-ORIGINAL-URL:https://rainbowcity.org
X-WR-CALDESC:Events for Rainbow City Performing Arts
REFRESH-INTERVAL;VALUE=DURATION:PT1H
X-Robots-Tag:noindex
X-PUBLISHED-TTL:PT1H
BEGIN:VTIMEZONE
TZID:America/Los_Angeles
BEGIN:DAYLIGHT
TZOFFSETFROM:-0800
TZOFFSETTO:-0700
TZNAME:PDT
DTSTART:20220313T100000
END:DAYLIGHT
BEGIN:STANDARD
TZOFFSETFROM:-0700
TZOFFSETTO:-0800
TZNAME:PST
DTSTART:20221106T090000
END:STANDARD
END:VTIMEZONE
BEGIN:VEVENT
DTSTART;TZID=America/Los_Angeles:20221118T190000
DTEND;TZID=America/Los_Angeles:20221118T204500
DTSTAMP:20231117T211047
CREATED:20220930T015036Z
LAST-MODIFIED:20221017T005037Z
UID:1838-1668798000-1668804300@rainbowcity.org
SUMMARY:If the Shoe Fits: Red Stiletto
DESCRIPTION:Rainbow City Orchestra in their debut performance presents an evening of music “In Heels.” This concert was inspired by Brazilian composer Arthur Barbosa’s Suite “Scarpin” for string orchestra. \nThe evening will include a performance of “her first show” by Mari Valverde and the world premiere performance of a piece entitled “Visions of Hildegard.” The score was composed by Barbara Harbach\, and is a reflection on the music of one of the first known female music composers in history. \nThe concert is designed to challenge our understanding of what is feminine and celebrate the work of female artists of the 20th century. \nJoin us in heels at the Microsoft Auditorium\, Seattle Public Library at 7pm for an evening of spectacular music! \n  \n\n\n  \n \nShare on FacebookTweetFollow us
URL:https://rainbowcity.org/events/if-the-shoe-fits-red-stiletto/
LOCATION:Seattle Public Library – Central Library\, 1000 4th Ave\, Seattle\, Washington\, 98104\, United States
CATEGORIES:Rainbow City Orchestra
ATTACH;FMTTYPE=image/png:https://rainbowcity.org/wp-content/uploads/2022/09/Red_Stiletto_title.png
ORGANIZER;CN="Rainbow%20City%20Orchestra":MAILTO:info@rainbowcity.org
END:VEVENT
END:VCALENDAR