BEGIN:VCALENDAR
VERSION:2.0
PRODID:-//Rainbow City Performing Arts - ECPv6.1.3//NONSGML v1.0//EN
CALSCALE:GREGORIAN
METHOD:PUBLISH
X-WR-CALNAME:Rainbow City Performing Arts
X-ORIGINAL-URL:https://rainbowcity.org
X-WR-CALDESC:Events for Rainbow City Performing Arts
REFRESH-INTERVAL;VALUE=DURATION:PT1H
X-Robots-Tag:noindex
X-PUBLISHED-TTL:PT1H
BEGIN:VTIMEZONE
TZID:America/Los_Angeles
BEGIN:DAYLIGHT
TZOFFSETFROM:-0800
TZOFFSETTO:-0700
TZNAME:PDT
DTSTART:20190310T100000
END:DAYLIGHT
BEGIN:STANDARD
TZOFFSETFROM:-0700
TZOFFSETTO:-0800
TZNAME:PST
DTSTART:20191103T090000
END:STANDARD
END:VTIMEZONE
BEGIN:VEVENT
DTSTART;TZID=America/Los_Angeles:20190323T190000
DTEND;TZID=America/Los_Angeles:20190323T210000
DTSTAMP:20231117T210811
CREATED:20180920T150527Z
LAST-MODIFIED:20190315T055541Z
UID:373-1553367600-1553374800@rainbowcity.org
SUMMARY:Justice for All: Heroes
DESCRIPTION:As the third program in our 2018-19 Transformations season\, Rainbow City Concert Band presents our second annual Justice for All concert with an exciting program entitled Heroes\, including music celebrating everyday people and how\, in times of struggle or necessity\, we have the capacity to transform and conquer adversity. We want to shine a light on these transformations to our fellow community members\, especially in our audience. \nWith music ranging from Samuel Barber to Julie Giroux and pieces dedicated to Rosa Parks\, Tecumseh\, and Amelia Earhart\, this concert will touch all parts of what it means to be a hero. We’ll even feature one of our own members\, Allison Fortenberry\, singing a selection from La Cage Aux Folles.  \n\nWe are very excited to announce that this concert will also highlight our community spotlight and partnership with Ingersoll Gender Center\, and honor a hero of equality\, Marsha Botzer\, as our guest speaker! All proceeds of the intermission raffle will go to Ingersoll Gender Center to support their mission of envisioning a world that nurtures healthy communities free from violence\, centers self-determination for all people\, and celebrates all gender identities and expressions. \n \n\nShare on FacebookTweetFollow us
URL:https://rainbowcity.org/events/justice-for-all-heroes/
LOCATION:Broadway Performance Hall\, 1625 Broadway\, Seattle\, WA\, 98122\, United States
ORGANIZER;CN="Rainbow%20City%20Concert%20Band":MAILTO:info@rainbowcity.org
END:VEVENT
END:VCALENDAR