BEGIN:VCALENDAR
VERSION:2.0
PRODID:-//Rainbow City Performing Arts - ECPv6.1.3//NONSGML v1.0//EN
CALSCALE:GREGORIAN
METHOD:PUBLISH
X-WR-CALNAME:Rainbow City Performing Arts
X-ORIGINAL-URL:https://rainbowcity.org
X-WR-CALDESC:Events for Rainbow City Performing Arts
REFRESH-INTERVAL;VALUE=DURATION:PT1H
X-Robots-Tag:noindex
X-PUBLISHED-TTL:PT1H
BEGIN:VTIMEZONE
TZID:America/Los_Angeles
BEGIN:DAYLIGHT
TZOFFSETFROM:-0800
TZOFFSETTO:-0700
TZNAME:PDT
DTSTART:20230312T100000
END:DAYLIGHT
BEGIN:STANDARD
TZOFFSETFROM:-0700
TZOFFSETTO:-0800
TZNAME:PST
DTSTART:20231105T090000
END:STANDARD
END:VTIMEZONE
BEGIN:VEVENT
DTSTART;TZID=America/Los_Angeles:20230701T123000
DTEND;TZID=America/Los_Angeles:20230701T150000
DTSTAMP:20231117T210944
CREATED:20230606T093635Z
LAST-MODIFIED:20230606T093635Z
UID:2358-1688214600-1688223600@rainbowcity.org
SUMMARY:OL Reign Match vs. Racing Louisville FC 2023
DESCRIPTION:Join us for all home matches of the OL Reign at Lumen Field with a set prior to the match as well as on your way you on the grand steps. Follow our march to the match with the fan section as we move to our place in the stands and then hear our mighty drumming throughout the match\, filling the bowl with more sound! You may even hear us playing at halftime. \nShare on FacebookTweetFollow us
URL:https://rainbowcity.org/events/ol-reign-match-vs-racing-louisville-fc-2023/
LOCATION:Lumen Field\, 800 Occidental Ave S\, Seattle\, WA\, 98134\, United States
CATEGORIES:Rainbow City Drumline,Reign City Riot
ATTACH;FMTTYPE=image/jpeg:https://rainbowcity.org/wp-content/uploads/2022/09/Reign-City-Riot-Spirit-Cropped.jpg
ORGANIZER;CN="Reign%20City%20Riot":MAILTO:info@rainbowcity.org
END:VEVENT
END:VCALENDAR