BEGIN:VCALENDAR
VERSION:2.0
PRODID:-//Rainbow City Performing Arts - ECPv6.1.3//NONSGML v1.0//EN
CALSCALE:GREGORIAN
METHOD:PUBLISH
X-WR-CALNAME:Rainbow City Performing Arts
X-ORIGINAL-URL:https://rainbowcity.org
X-WR-CALDESC:Events for Rainbow City Performing Arts
REFRESH-INTERVAL;VALUE=DURATION:PT1H
X-Robots-Tag:noindex
X-PUBLISHED-TTL:PT1H
BEGIN:VTIMEZONE
TZID:America/Los_Angeles
BEGIN:DAYLIGHT
TZOFFSETFROM:-0800
TZOFFSETTO:-0700
TZNAME:PDT
DTSTART:20230312T100000
END:DAYLIGHT
BEGIN:STANDARD
TZOFFSETFROM:-0700
TZOFFSETTO:-0800
TZNAME:PST
DTSTART:20231105T090000
END:STANDARD
END:VTIMEZONE
BEGIN:VEVENT
DTSTART;TZID=America/Los_Angeles:20230128T190000
DTEND;TZID=America/Los_Angeles:20230128T210000
DTSTAMP:20231117T210747
CREATED:20220930T015036Z
LAST-MODIFIED:20230126T030815Z
UID:1836-1674932400-1674939600@rainbowcity.org
SUMMARY:Once!
DESCRIPTION:Once upon a time there was a crafty boy named Peter\, a benevolent queen with a terrible tummy ache\, and a dragon who behaved like a cat! Join us for an inspired storytellers’ concert filled with classic nursery rhymes and fantastical fables from Sergei Prokofiev\, Mogens Andresen\, and a very special arrangement by our very own Caleb Gomes! This programmatic presentation is the second installment of "Play On!"\, the Rainbow City Concert Band's 25th Anniversary Concert Season. \nDoors open at 6:30 p.m. with the program commencing at 7:00 p.m. at Broadway Performance Hall on Capitol Hill\, the heart of Seattle's LGBTQIA+ community. You won’t want to miss this magical concert experience with our special guest performer\, Aleksa Manila! \nPrices at the door will be an additional $5 above the listed online price. Sales online will end 6 hours before show time so buy now before we sell out!
URL:https://rainbowcity.org/events/once/
LOCATION:Broadway Performance Hall\, 1625 Broadway\, Seattle\, Washington\, 98122\, United States
CATEGORIES:Rainbow City Concert Band
ATTACH;FMTTYPE=image/png:https://rainbowcity.org/wp-content/uploads/2022/09/ONCE_Title.png
END:VEVENT
END:VCALENDAR