BEGIN:VCALENDAR
VERSION:2.0
PRODID:-//Rainbow City Performing Arts - ECPv6.1.3//NONSGML v1.0//EN
CALSCALE:GREGORIAN
METHOD:PUBLISH
X-WR-CALNAME:Rainbow City Performing Arts
X-ORIGINAL-URL:https://rainbowcity.org
X-WR-CALDESC:Events for Rainbow City Performing Arts
REFRESH-INTERVAL;VALUE=DURATION:PT1H
X-Robots-Tag:noindex
X-PUBLISHED-TTL:PT1H
BEGIN:VTIMEZONE
TZID:America/Los_Angeles
BEGIN:DAYLIGHT
TZOFFSETFROM:-0800
TZOFFSETTO:-0700
TZNAME:PDT
DTSTART:20230312T100000
END:DAYLIGHT
BEGIN:STANDARD
TZOFFSETFROM:-0700
TZOFFSETTO:-0800
TZNAME:PST
DTSTART:20231105T090000
END:STANDARD
END:VTIMEZONE
BEGIN:VEVENT
DTSTART;VALUE=DATE:20230715
DTEND;VALUE=DATE:20230716
DTSTAMP:20231117T210645
CREATED:20230530T045910Z
LAST-MODIFIED:20230708T211401Z
UID:2233-1689379200-1689465599@rainbowcity.org
SUMMARY:Pacific Days Parade 2023
DESCRIPTION:Join us at the Pacific Days festival in Pacific\, WA for a parade as well help spread our love and great tunes to Pierce County! Pacific Days is a festival in Pacific\, WA held in Pacific City Park from 5pm Friday going all through Saturday. The parade will be on Saturday and will run down 3rd Ave. to Steiger Park next to City Hall. It’s a little less than a mile from start to finish but should have a lively crowd we will be proud to entertain! Besides the parade\, there will be vendor booths as well. This festival is sponsored by Pacific Partnerships. They provide resources\, educational opportunities\, and improve the quality of life of citizens through partnerships with businesses and service organizations. \nRainbow City Marching Band and Rainbow City Color Guard are two of the performance ensembles of Rainbow City Performing Arts. They perform at various parades\, festivals\, and community events throughout the year\, bringing joy and color to the streets. Rainbow City Marching Band plays a variety of music\, from pop to classical\, with a focus on fun and entertainment. Rainbow City Color Guard adds visual flair and movement to the band’s music\, using flags\, sabers\, and dance. Together\, they create a dynamic and diverse show that celebrates LGBTQIA+ pride and inclusion. \nRainbow City Performing Arts (RCPA) is a nonprofit organization that celebrates LGBTQIA+ diversity and inclusion through musical expression. RCPA consists of seven performance ensembles that play various genres of music\, such as jazz\, orchestra\, sports band\, and drumline. RCPA’s mission is to create a safe and supportive environment for musicians of all identities\, skills\, and backgrounds\, and to promote the equity and visibility of LGBTQIA+ people in the community. RCPA also supports young and marginalized artists by commissioning new works and providing instruments and scholarships. \nWant to join us and help volunteer to support our musicians? Signup for a volunteer spot at this link. \n  \nShare on FacebookTweetFollow us
URL:https://rainbowcity.org/events/pacific-days-parade-2023/
LOCATION:Pacific City Park\, 600 Third Ave. SE\, Pacific\, WA\, 98047\, United States
CATEGORIES:Rainbow City Color Guard,Rainbow City Drumline,Rainbow City Marching Band
ATTACH;FMTTYPE=image/jpeg:https://rainbowcity.org/wp-content/uploads/2022/09/Marching-Band-All-Cropped.jpg
ORGANIZER;CN="Rainbow%20City%20Marching%20Band":MAILTO:info@rainbowcity.org
END:VEVENT
END:VCALENDAR