BEGIN:VCALENDAR
VERSION:2.0
PRODID:-//Rainbow City Performing Arts - ECPv6.1.3//NONSGML v1.0//EN
CALSCALE:GREGORIAN
METHOD:PUBLISH
X-WR-CALNAME:Rainbow City Performing Arts
X-ORIGINAL-URL:https://rainbowcity.org
X-WR-CALDESC:Events for Rainbow City Performing Arts
REFRESH-INTERVAL;VALUE=DURATION:PT1H
X-Robots-Tag:noindex
X-PUBLISHED-TTL:PT1H
BEGIN:VTIMEZONE
TZID:America/Los_Angeles
BEGIN:DAYLIGHT
TZOFFSETFROM:-0800
TZOFFSETTO:-0700
TZNAME:PDT
DTSTART:20190310T100000
END:DAYLIGHT
BEGIN:STANDARD
TZOFFSETFROM:-0700
TZOFFSETTO:-0800
TZNAME:PST
DTSTART:20191103T090000
END:STANDARD
END:VTIMEZONE
BEGIN:VEVENT
DTSTART;TZID=America/Los_Angeles:20191031T180000
DTEND;TZID=America/Los_Angeles:20191031T200000
DTSTAMP:20231117T210731
CREATED:20190921T202508Z
LAST-MODIFIED:20190921T202508Z
UID:1009-1572544800-1572552000@rainbowcity.org
SUMMARY:PPSB at Merrill Gardens
DESCRIPTION:It’s Halloween! Even the ghosts and goblins will be swinging on the 31st as Rainbow City Jazz Band gets your bones moving. \nShare on FacebookTweetFollow us
URL:https://rainbowcity.org/events/ppsb-at-merrill-gardens/
LOCATION:Merrill Gardens at the University\, 5300 24th Ave NE\, Seattle\, WA\, 98105\, United States
ORGANIZER;CN="Rainbow%20City%20Jazz%20Band":MAILTO:info@rainbowcity.org
END:VEVENT
END:VCALENDAR