BEGIN:VCALENDAR
VERSION:2.0
PRODID:-//Rainbow City Performing Arts - ECPv6.1.3//NONSGML v1.0//EN
CALSCALE:GREGORIAN
METHOD:PUBLISH
X-WR-CALNAME:Rainbow City Performing Arts
X-ORIGINAL-URL:https://rainbowcity.org
X-WR-CALDESC:Events for Rainbow City Performing Arts
REFRESH-INTERVAL;VALUE=DURATION:PT1H
X-Robots-Tag:noindex
X-PUBLISHED-TTL:PT1H
BEGIN:VTIMEZONE
TZID:America/Los_Angeles
BEGIN:DAYLIGHT
TZOFFSETFROM:-0800
TZOFFSETTO:-0700
TZNAME:PDT
DTSTART:20180311T100000
END:DAYLIGHT
BEGIN:STANDARD
TZOFFSETFROM:-0700
TZOFFSETTO:-0800
TZNAME:PST
DTSTART:20181104T090000
END:STANDARD
END:VTIMEZONE
BEGIN:VEVENT
DTSTART;TZID=America/Los_Angeles:20181031T190000
DTEND;TZID=America/Los_Angeles:20181031T210000
DTSTAMP:20231117T210910
CREATED:20180925T025107Z
LAST-MODIFIED:20181016T120608Z
UID:507-1541012400-1541019600@rainbowcity.org
SUMMARY:Purple Passion at Merrill Gardens
DESCRIPTION:No trick\, and a treat for sure as Purple Passion plays on Halloween at Merrill Gardens in the University District. Don’t forget your costume! \nShare on FacebookTweetFollow us
URL:https://rainbowcity.org/events/purple-passion-at-merrill-gardens/
LOCATION:Merrill Gardens at the University\, 5300 24th Ave NE\, Seattle\, WA\, 98105\, United States
ORGANIZER;CN="Rainbow%20City%20Jazz%20Band":MAILTO:info@rainbowcity.org
END:VEVENT
END:VCALENDAR