BEGIN:VCALENDAR
VERSION:2.0
PRODID:-//Rainbow City Performing Arts - ECPv6.1.3//NONSGML v1.0//EN
CALSCALE:GREGORIAN
METHOD:PUBLISH
X-WR-CALNAME:Rainbow City Performing Arts
X-ORIGINAL-URL:https://rainbowcity.org
X-WR-CALDESC:Events for Rainbow City Performing Arts
REFRESH-INTERVAL;VALUE=DURATION:PT1H
X-Robots-Tag:noindex
X-PUBLISHED-TTL:PT1H
BEGIN:VTIMEZONE
TZID:America/Los_Angeles
BEGIN:DAYLIGHT
TZOFFSETFROM:-0800
TZOFFSETTO:-0700
TZNAME:PDT
DTSTART:20180311T100000
END:DAYLIGHT
BEGIN:STANDARD
TZOFFSETFROM:-0700
TZOFFSETTO:-0800
TZNAME:PST
DTSTART:20181104T090000
END:STANDARD
END:VTIMEZONE
BEGIN:VEVENT
DTSTART;TZID=America/Los_Angeles:20181022T190000
DTEND;TZID=America/Los_Angeles:20181022T213000
DTSTAMP:20231117T211129
CREATED:20180925T030315Z
LAST-MODIFIED:20181016T120529Z
UID:514-1540234800-1540243800@rainbowcity.org
SUMMARY:Purple Passion at Queer Bar
DESCRIPTION:Put on your dancing shoes and join Purple Passion at Queer Bar on Capitol Hill. Admission is free\, and there will be drink and food specials during the show! \n  \nShare on FacebookTweetFollow us
URL:https://rainbowcity.org/events/purple-passion-at-queer-bar/
LOCATION:queer/bar\, 1518 11th Ave\, Seattle\, WA\, 98122\, United States
ORGANIZER;CN="Rainbow%20City%20Jazz%20Band":MAILTO:info@rainbowcity.org
END:VEVENT
END:VCALENDAR