BEGIN:VCALENDAR
VERSION:2.0
PRODID:-//Rainbow City Performing Arts - ECPv6.1.3//NONSGML v1.0//EN
CALSCALE:GREGORIAN
METHOD:PUBLISH
X-WR-CALNAME:Rainbow City Performing Arts
X-ORIGINAL-URL:https://rainbowcity.org
X-WR-CALDESC:Events for Rainbow City Performing Arts
REFRESH-INTERVAL;VALUE=DURATION:PT1H
X-Robots-Tag:noindex
X-PUBLISHED-TTL:PT1H
BEGIN:VTIMEZONE
TZID:America/Los_Angeles
BEGIN:DAYLIGHT
TZOFFSETFROM:-0800
TZOFFSETTO:-0700
TZNAME:PDT
DTSTART:20180311T100000
END:DAYLIGHT
BEGIN:STANDARD
TZOFFSETFROM:-0700
TZOFFSETTO:-0800
TZNAME:PST
DTSTART:20181104T090000
END:STANDARD
END:VTIMEZONE
BEGIN:VEVENT
DTSTART;TZID=America/Los_Angeles:20181222T190000
DTEND;TZID=America/Los_Angeles:20181222T213000
DTSTAMP:20231117T211001
CREATED:20180925T025540Z
LAST-MODIFIED:20181016T120711Z
UID:511-1545505200-1545514200@rainbowcity.org
SUMMARY:Purple Passion at Third Place Commons
DESCRIPTION:Purple Passion plays its holiday concert at Third Place Commons — enjoy some great holiday music and swing standards\, eat some great food\, and dance the night away with Rainbow City Jazz Band. \nShare on FacebookTweetFollow us
URL:https://rainbowcity.org/events/purple-passion-at-third-place-commons/
LOCATION:Third Place Books\, 17171 Bothell Way NE\, Lake Forest Park\, WA\, 98155\, United States
ORGANIZER;CN="Rainbow%20City%20Jazz%20Band":MAILTO:info@rainbowcity.org
END:VEVENT
END:VCALENDAR