BEGIN:VCALENDAR
VERSION:2.0
PRODID:-//Rainbow City Performing Arts - ECPv6.1.3//NONSGML v1.0//EN
CALSCALE:GREGORIAN
METHOD:PUBLISH
X-WR-CALNAME:Rainbow City Performing Arts
X-ORIGINAL-URL:https://rainbowcity.org
X-WR-CALDESC:Events for Rainbow City Performing Arts
REFRESH-INTERVAL;VALUE=DURATION:PT1H
X-Robots-Tag:noindex
X-PUBLISHED-TTL:PT1H
BEGIN:VTIMEZONE
TZID:America/Los_Angeles
BEGIN:DAYLIGHT
TZOFFSETFROM:-0800
TZOFFSETTO:-0700
TZNAME:PDT
DTSTART:20190310T100000
END:DAYLIGHT
BEGIN:STANDARD
TZOFFSETFROM:-0700
TZOFFSETTO:-0800
TZNAME:PST
DTSTART:20191103T090000
END:STANDARD
END:VTIMEZONE
BEGIN:VEVENT
DTSTART;TZID=America/Los_Angeles:20191025T190000
DTEND;TZID=America/Los_Angeles:20191025T210000
DTSTAMP:20231117T211037
CREATED:20190315T054912Z
LAST-MODIFIED:20190315T055053Z
UID:705-1572030000-1572037200@rainbowcity.org
SUMMARY:Purple Passion Plays Crossroads Bellevue on October 25
DESCRIPTION:Purple Passion brings its signature big-band and swing sounds to Crossroads Bellevue’s Market Stage. Join us for a fabulous Friday night of music and dancing! \nShare on FacebookTweetFollow us
URL:https://rainbowcity.org/events/purple-passion-plays-crossroads-bellevue-on-october-25/
LOCATION:Crossroads Bellevue\, 15600 NE 8th St\, Bellevue\, WA\, 98008\, United States
ORGANIZER;CN="Rainbow%20City%20Jazz%20Band":MAILTO:info@rainbowcity.org
END:VEVENT
END:VCALENDAR