BEGIN:VCALENDAR
VERSION:2.0
PRODID:-//Rainbow City Performing Arts - ECPv6.1.3//NONSGML v1.0//EN
CALSCALE:GREGORIAN
METHOD:PUBLISH
X-WR-CALNAME:Rainbow City Performing Arts
X-ORIGINAL-URL:https://rainbowcity.org
X-WR-CALDESC:Events for Rainbow City Performing Arts
REFRESH-INTERVAL;VALUE=DURATION:PT1H
X-Robots-Tag:noindex
X-PUBLISHED-TTL:PT1H
BEGIN:VTIMEZONE
TZID:America/Los_Angeles
BEGIN:DAYLIGHT
TZOFFSETFROM:-0800
TZOFFSETTO:-0700
TZNAME:PDT
DTSTART:20190310T100000
END:DAYLIGHT
BEGIN:STANDARD
TZOFFSETFROM:-0700
TZOFFSETTO:-0800
TZNAME:PST
DTSTART:20191103T090000
END:STANDARD
END:VTIMEZONE
BEGIN:VEVENT
DTSTART;TZID=America/Los_Angeles:20190928T180000
DTEND;TZID=America/Los_Angeles:20190928T230000
DTSTAMP:20231117T210843
CREATED:20190627T031931Z
LAST-MODIFIED:20190919T234242Z
UID:787-1569693600-1569711600@rainbowcity.org
SUMMARY:2019 Rainbow Ball Fundraising Gala
DESCRIPTION:Rainbow City Performing Arts presents the 2019 Rainbow Ball\, an evening featuring dance-themed music\, games\, live and silent auction\, dinner and fundraising on September 28th\, 2019. All the fun begins at 6pm at the Seattle Renaissance Hotel. \nProceeds go to Rainbow City Performing Arts (RCPA) to support community music\, purchase new instruments to expand the band’s repertoire\, promote membership outreach\, and create a safe space for LGBTQA musicians of all levels to make music. \n“This year\, as we continue to reinvigorate our fundraising initiatives with our second annual Rainbow Ball\, we want to take the opportunity to bring visibility to all of the people who have made RCPA the family that it is today. I hope that you join us in our mission to make the Seattle community better with the band!” said Tim Norris\, Rainbow City Performing Arts Artistic Director. \nFestive attire is encouraged! The event will be hosted by Brian Calvert of KOMO news. Early-bird discount pricing is available through September 16. Have a look at the dinner options on our menu for the evening\, and then click “Buy Tickets” below! \nAnd the evening doesn’t have to end after the auction! Treat yourself and your guest to a night at the elegant Renaissance Seattle Hotel with a special 15% discounted rate. Use promotional code K6Y at http://www.renaissanceseattle.com. \nLooking to volunteer? Or do you know someone who would like to help us make this evening a smashing success? Let us know on our volunteer sign-up! \n \nShare on FacebookTweetFollow us
URL:https://rainbowcity.org/events/rainbow-ball-2019/
LOCATION:Seattle Renaissance Hotel\, 515 Madison St\, Seattle\, WA\, 98104\, United States
ORGANIZER;CN="Rainbow%20City%20Performing%20Arts":MAILTO:info@rainbowcity.org
END:VEVENT
END:VCALENDAR