BEGIN:VCALENDAR
VERSION:2.0
PRODID:-//Rainbow City Performing Arts - ECPv6.1.3//NONSGML v1.0//EN
CALSCALE:GREGORIAN
METHOD:PUBLISH
X-WR-CALNAME:Rainbow City Performing Arts
X-ORIGINAL-URL:https://rainbowcity.org
X-WR-CALDESC:Events for Rainbow City Performing Arts
REFRESH-INTERVAL;VALUE=DURATION:PT1H
X-Robots-Tag:noindex
X-PUBLISHED-TTL:PT1H
BEGIN:VTIMEZONE
TZID:America/Los_Angeles
BEGIN:DAYLIGHT
TZOFFSETFROM:-0800
TZOFFSETTO:-0700
TZNAME:PDT
DTSTART:20200308T100000
END:DAYLIGHT
BEGIN:STANDARD
TZOFFSETFROM:-0700
TZOFFSETTO:-0800
TZNAME:PST
DTSTART:20201101T090000
END:STANDARD
END:VTIMEZONE
BEGIN:VEVENT
DTSTART;TZID=America/Los_Angeles:20200620T180000
DTEND;TZID=America/Los_Angeles:20200620T200000
DTSTAMP:20231117T211057
CREATED:20200419T224517Z
LAST-MODIFIED:20200605T183941Z
UID:1146-1592676000-1592683200@rainbowcity.org
SUMMARY:Rainbow Connection: Virtual Solo Recital
DESCRIPTION:Note: Rescheduled to June 20\n\nDuring this time of social distancing and all-out isolation\, we are not able to come together in the all-inclusive expressive space of our RCPA ensembles. However\, our family will persist! Our Artistic Director\, Tim Norris says\, “I’ve been wanting to start an interactive concert series with Rainbow City Performing Arts in our community for quite some time–a set of yearly concerts dedicated to the principle: Anyone Can Play! With this solo recital online\, we will present our first Rainbow Connection concert through which our members and community will have the opportunity to share their performances and reconnect with one another\, even while we are social distancing.”\n\nJoin us in your best dress (even if it’s only from the waist up) and bring your favorite cocktail/mocktail for a guided evening of solo/small ensemble performances\, broadcast digitally into your living room. We will celebrate LGBTQI+ Pride and the stories from our RCPA family! If you\, as a member of our community\, would like to participate\, contact Tim at artisticdirector@rainbowcityband.com.\n\nLinks to the performance meeting space (and helpful tech tips) will be provided to all confirmed attendees the week of the performance so please respond Attending to our Facebook event. These concert spaces will be an open/supportive community environment for all artists to freely express themselves against any fears and to connect to one another in unity.\nShare on FacebookTweetFollow us
URL:https://rainbowcity.org/events/rainbow-connection-virtual-solo-recital/
ORGANIZER;CN="Rainbow%20City%20Performing%20Arts":MAILTO:info@rainbowcity.org
END:VEVENT
END:VCALENDAR