BEGIN:VCALENDAR
VERSION:2.0
PRODID:-//Rainbow City Performing Arts - ECPv6.1.3//NONSGML v1.0//EN
CALSCALE:GREGORIAN
METHOD:PUBLISH
X-WR-CALNAME:Rainbow City Performing Arts
X-ORIGINAL-URL:https://rainbowcity.org
X-WR-CALDESC:Events for Rainbow City Performing Arts
REFRESH-INTERVAL;VALUE=DURATION:PT1H
X-Robots-Tag:noindex
X-PUBLISHED-TTL:PT1H
BEGIN:VTIMEZONE
TZID:America/Los_Angeles
BEGIN:DAYLIGHT
TZOFFSETFROM:-0800
TZOFFSETTO:-0700
TZNAME:PDT
DTSTART:20190310T100000
END:DAYLIGHT
BEGIN:STANDARD
TZOFFSETFROM:-0700
TZOFFSETTO:-0800
TZNAME:PST
DTSTART:20191103T090000
END:STANDARD
END:VTIMEZONE
BEGIN:VEVENT
DTSTART;TZID=America/Los_Angeles:20190504T190000
DTEND;TZID=America/Los_Angeles:20190504T210000
DTSTAMP:20231117T211103
CREATED:20190125T055306Z
LAST-MODIFIED:20190409T155057Z
UID:677-1556996400-1557003600@rainbowcity.org
SUMMARY:RCPA Chamber Ensembles: Story Tellers
DESCRIPTION:Join Rainbow City Performing Arts in a special chamber music presentation called Storytellers! In one of the last concerts of our Transformations season\, we will perform pieces that will set the notes dancing from the pages of our written music into exciting tales and contemporary folklore. This will be an evening of great variety from well known classics and film scores\, to popular songs and jazz standards. We’ll have something for everyone\, and you’ll be able to see and hear our members in a way that truly showcases their individual talents. \n \nShare on FacebookTweetFollow us
URL:https://rainbowcity.org/events/rcpa-chamber-ensembles-story-tellers/
LOCATION:Langston Hughes Performing Arts Institute\, 104 17th Ave S\, Seattle\, WA\, 98144\, United States
ORGANIZER;CN="Rainbow%20City%20Performing%20Arts":MAILTO:info@rainbowcity.org
END:VEVENT
END:VCALENDAR