BEGIN:VCALENDAR
VERSION:2.0
PRODID:-//Rainbow City Performing Arts - ECPv6.1.3//NONSGML v1.0//EN
CALSCALE:GREGORIAN
METHOD:PUBLISH
X-WR-CALNAME:Rainbow City Performing Arts
X-ORIGINAL-URL:https://rainbowcity.org
X-WR-CALDESC:Events for Rainbow City Performing Arts
REFRESH-INTERVAL;VALUE=DURATION:PT1H
X-Robots-Tag:noindex
X-PUBLISHED-TTL:PT1H
BEGIN:VTIMEZONE
TZID:America/Los_Angeles
BEGIN:DAYLIGHT
TZOFFSETFROM:-0800
TZOFFSETTO:-0700
TZNAME:PDT
DTSTART:20190310T100000
END:DAYLIGHT
BEGIN:STANDARD
TZOFFSETFROM:-0700
TZOFFSETTO:-0800
TZNAME:PST
DTSTART:20191103T090000
END:STANDARD
END:VTIMEZONE
BEGIN:VEVENT
DTSTART;TZID=America/Los_Angeles:20190807T190000
DTEND;TZID=America/Los_Angeles:20190807T210000
DTSTAMP:20231117T210856
CREATED:20190915T222446Z
LAST-MODIFIED:20190915T222446Z
UID:973-1565204400-1565211600@rainbowcity.org
SUMMARY:Reign City Riot: Reign FC vs Portland Thorns
DESCRIPTION:Reign City Riot performs at Reign FC vs Portland Thorns at Cheney Stadium \nShare on FacebookTweetFollow us
URL:https://rainbowcity.org/events/riot-08-07-2019/
LOCATION:Cheney Stadium\, 2502 S Tyler St\, Tacoma\, WA\, 98405\, United States
ORGANIZER;CN="Reign%20City%20Riot":MAILTO:info@rainbowcity.org
END:VEVENT
END:VCALENDAR