BEGIN:VCALENDAR
VERSION:2.0
PRODID:-//Rainbow City Performing Arts - ECPv6.1.3//NONSGML v1.0//EN
CALSCALE:GREGORIAN
METHOD:PUBLISH
X-WR-CALNAME:Rainbow City Performing Arts
X-ORIGINAL-URL:https://rainbowcity.org
X-WR-CALDESC:Events for Rainbow City Performing Arts
REFRESH-INTERVAL;VALUE=DURATION:PT1H
X-Robots-Tag:noindex
X-PUBLISHED-TTL:PT1H
BEGIN:VTIMEZONE
TZID:America/Los_Angeles
BEGIN:DAYLIGHT
TZOFFSETFROM:-0800
TZOFFSETTO:-0700
TZNAME:PDT
DTSTART:20230312T100000
END:DAYLIGHT
BEGIN:STANDARD
TZOFFSETFROM:-0700
TZOFFSETTO:-0800
TZNAME:PST
DTSTART:20231105T090000
END:STANDARD
END:VTIMEZONE
BEGIN:VEVENT
DTSTART;TZID=America/Los_Angeles:20230810T190000
DTEND;TZID=America/Los_Angeles:20230810T210000
DTSTAMP:20231117T210546
CREATED:20230803T062700Z
LAST-MODIFIED:20230805T022331Z
UID:2903-1691694000-1691701200@rainbowcity.org
SUMMARY:Seahawks Preseason Opener Halftime
DESCRIPTION:Seahawks Preseason Opener Halftime Performers \n  \nRainbow City Marching Band and Color Guard are proud to present a featured performance at halftime for the Seattle Seahawks preseason opener game verses the Minnesota Vikings. The game will be the pride night and we are indeed proud to represent the LGBTQIA+ community! Our musical selections don't just uplift our communities but will get everyone pepped up and out of their seat! \nCatch the Seahawks preseason opener broadcast on KING5 TV or listen on Seattle Sports 710AM or KIRO Newsradio 97.3 FM. \nAbout the Performers\nRainbow City Marching Band and Rainbow City Color Guard are two of the performance ensembles of Rainbow City Performing Arts. They perform at various parades\, festivals\, and community events throughout the year\, bringing joy and color to the streets. Rainbow City Marching Band plays a variety of music\, from pop to classical\, with a focus on fun and entertainment. Rainbow City Color Guard adds visual flair and movement to the band’s music\, using flags\, sabers\, and dance. Together\, they create a dynamic and diverse show that celebrates LGBTQIA+ pride and inclusion. \nAbout RCPA\nRainbow City Performing Arts (RCPA) is a nonprofit organization that celebrates LGBTQIA+ diversity and inclusion through musical expression. RCPA consists of seven performance ensembles that play various genres of music\, such as jazz\, orchestra\, sports band\, and drumline. RCPA’s mission is to create a safe and supportive environment for musicians of all identities\, skills\, and backgrounds\, and to promote the equity and visibility of LGBTQIA+ people in the community. RCPA also supports young and marginalized artists by commissioning new works and providing instruments and scholarships.
URL:https://rainbowcity.org/events/seahawks-preseason-opener-halftime/
LOCATION:Lumen Field\, 800 Occidental Ave S\, Seattle\, WA\, 98134\, United States
CATEGORIES:Rainbow City Color Guard,Rainbow City Drumline,Rainbow City Marching Band
ATTACH;FMTTYPE=image/png:https://rainbowcity.org/wp-content/uploads/2023/08/seahawks-splash.png
ORGANIZER;CN="Rainbow%20City%20Marching%20Band":MAILTO:info@rainbowcity.org
END:VEVENT
END:VCALENDAR