BEGIN:VCALENDAR
VERSION:2.0
PRODID:-//Rainbow City Performing Arts - ECPv6.1.3//NONSGML v1.0//EN
CALSCALE:GREGORIAN
METHOD:PUBLISH
X-WR-CALNAME:Rainbow City Performing Arts
X-ORIGINAL-URL:https://rainbowcity.org
X-WR-CALDESC:Events for Rainbow City Performing Arts
REFRESH-INTERVAL;VALUE=DURATION:PT1H
X-Robots-Tag:noindex
X-PUBLISHED-TTL:PT1H
BEGIN:VTIMEZONE
TZID:America/Los_Angeles
BEGIN:DAYLIGHT
TZOFFSETFROM:-0800
TZOFFSETTO:-0700
TZNAME:PDT
DTSTART:20230312T100000
END:DAYLIGHT
BEGIN:STANDARD
TZOFFSETFROM:-0700
TZOFFSETTO:-0800
TZNAME:PST
DTSTART:20231105T090000
END:STANDARD
END:VTIMEZONE
BEGIN:VEVENT
DTSTART;TZID=America/Los_Angeles:20230625T093000
DTEND;TZID=America/Los_Angeles:20230625T230000
DTSTAMP:20231117T211122
CREATED:20230530T044654Z
LAST-MODIFIED:20230611T164239Z
UID:2221-1687685400-1687734000@rainbowcity.org
SUMMARY:Seattle Pride Parade 2023
DESCRIPTION:The largest Pride parade in the Northwest\, the Seattle Pride Parade draws huge crowds to downtown Seattle to celebrate Pride. See us right up towards the front of the parade helping to lead the procession. You can also join us for a special performance at the start of the parade of some additional pop charts you won’t hear along the parade route! \nWant to join us and help volunteer to support our musicians? Signup for a volunteer spot at this link. \nShare on FacebookTweetFollow us
URL:https://rainbowcity.org/events/seattle-pride-parade-2023/
LOCATION:Downtown Seattle\, 4th Ave and Pine St\, Seattle\, WA\, 98101\, United States
CATEGORIES:Rainbow City Color Guard,Rainbow City Drumline,Rainbow City Marching Band
ATTACH;FMTTYPE=image/png:https://rainbowcity.org/wp-content/uploads/2023/06/Seattle-Pride.png
ORGANIZER;CN="Rainbow%20City%20Marching%20Band":MAILTO:info@rainbowcity.org
END:VEVENT
END:VCALENDAR