BEGIN:VCALENDAR
VERSION:2.0
PRODID:-//Rainbow City Performing Arts - ECPv6.1.3//NONSGML v1.0//EN
CALSCALE:GREGORIAN
METHOD:PUBLISH
X-WR-CALNAME:Rainbow City Performing Arts
X-ORIGINAL-URL:https://rainbowcity.org
X-WR-CALDESC:Events for Rainbow City Performing Arts
REFRESH-INTERVAL;VALUE=DURATION:PT1H
X-Robots-Tag:noindex
X-PUBLISHED-TTL:PT1H
BEGIN:VTIMEZONE
TZID:America/Los_Angeles
BEGIN:DAYLIGHT
TZOFFSETFROM:-0800
TZOFFSETTO:-0700
TZNAME:PDT
DTSTART:20200308T100000
END:DAYLIGHT
BEGIN:STANDARD
TZOFFSETFROM:-0700
TZOFFSETTO:-0800
TZNAME:PST
DTSTART:20201101T090000
END:STANDARD
END:VTIMEZONE
BEGIN:VEVENT
DTSTART;TZID=America/Los_Angeles:20200915T190000
DTEND;TZID=America/Los_Angeles:20200915T210000
DTSTAMP:20231117T210643
CREATED:20200321T012039Z
LAST-MODIFIED:20200712T232234Z
UID:1125-1600196400-1600203600@rainbowcity.org
SUMMARY:Stay Tuned\, and Stay Healthy!
DESCRIPTION:While we wait for event organizers and our local and state health authorities to guide which events may happen this summer and fall\, we’re preparing to bring the sights and sounds of Rainbow City Performing Arts to you in whatever ways are available and safe. Keep an eye on our events calendar as performances are confirmed. \nMeanwhile\, don’t let a postponed performance keep you from the joy of music! Enjoy your favorite recordings at home\, listen to the radio (!) or streaming music\, and by all means\, if you play an instrument – keep playing! We’ll have the chance to play and make music together again soon. \nShare on FacebookTweetFollow us
URL:https://rainbowcity.org/events/stay-tuned-and-stay-healthy/
ORGANIZER;CN="Rainbow%20City%20Performing%20Arts":MAILTO:info@rainbowcity.org
END:VEVENT
END:VCALENDAR