BEGIN:VCALENDAR
VERSION:2.0
PRODID:-//Rainbow City Performing Arts - ECPv6.1.3//NONSGML v1.0//EN
CALSCALE:GREGORIAN
METHOD:PUBLISH
X-WR-CALNAME:Rainbow City Performing Arts
X-ORIGINAL-URL:https://rainbowcity.org
X-WR-CALDESC:Events for Rainbow City Performing Arts
REFRESH-INTERVAL;VALUE=DURATION:PT1H
X-Robots-Tag:noindex
X-PUBLISHED-TTL:PT1H
BEGIN:VTIMEZONE
TZID:America/Los_Angeles
BEGIN:DAYLIGHT
TZOFFSETFROM:-0800
TZOFFSETTO:-0700
TZNAME:PDT
DTSTART:20220313T100000
END:DAYLIGHT
BEGIN:STANDARD
TZOFFSETFROM:-0700
TZOFFSETTO:-0800
TZNAME:PST
DTSTART:20221106T090000
END:STANDARD
END:VTIMEZONE
BEGIN:VEVENT
DTSTART;TZID=America/Los_Angeles:20221112T190000
DTEND;TZID=America/Los_Angeles:20221112T210000
DTSTAMP:20231117T210835
CREATED:20220930T042820Z
LAST-MODIFIED:20221012T062317Z
UID:1901-1668279600-1668286800@rainbowcity.org
SUMMARY:Third Place Commons Fall '22
DESCRIPTION:Come to the Town Center at Lake Forest Park to hear us at Third Place Commons play a set and dance if you like! Food is available nearby as well. This event is open to the public at no charge. \nShare on FacebookTweetFollow us
URL:https://rainbowcity.org/events/third-place-commons-fall-2022/
LOCATION:Town Center at Lake Forest Park\, 17171 Bothell Way NE\, Lake Forest Park\, 98155
CATEGORIES:Rainbow City Jazz Band
ATTACH;FMTTYPE=image/jpeg:https://rainbowcity.org/wp-content/uploads/2022/09/pp-gala-header.jpeg
ORGANIZER;CN="Rainbow%20City%20Jazz%20Band":MAILTO:info@rainbowcity.org
END:VEVENT
END:VCALENDAR