BEGIN:VCALENDAR
VERSION:2.0
PRODID:-//Rainbow City Performing Arts - ECPv6.1.3//NONSGML v1.0//EN
CALSCALE:GREGORIAN
METHOD:PUBLISH
X-WR-CALNAME:Rainbow City Performing Arts
X-ORIGINAL-URL:https://rainbowcity.org
X-WR-CALDESC:Events for Rainbow City Performing Arts
REFRESH-INTERVAL;VALUE=DURATION:PT1H
X-Robots-Tag:noindex
X-PUBLISHED-TTL:PT1H
BEGIN:VTIMEZONE
TZID:America/Los_Angeles
BEGIN:DAYLIGHT
TZOFFSETFROM:-0800
TZOFFSETTO:-0700
TZNAME:PDT
DTSTART:20230312T100000
END:DAYLIGHT
BEGIN:STANDARD
TZOFFSETFROM:-0700
TZOFFSETTO:-0800
TZNAME:PST
DTSTART:20231105T090000
END:STANDARD
END:VTIMEZONE
BEGIN:VEVENT
DTSTART;TZID=America/Los_Angeles:20230612T190000
DTEND;TZID=America/Los_Angeles:20230612T200000
DTSTAMP:20231117T210748
CREATED:20230530T043934Z
LAST-MODIFIED:20230606T093320Z
UID:2215-1686596400-1686600000@rainbowcity.org
SUMMARY:Wedgwood Neighborhood Parade and Ice Cream Social 2023
DESCRIPTION:The marching band’s parade season kicks off with our traditional Wedgwood Neighborhood Parade followed by an Ice Cream Social sponsored by Wedgwood Community Church. Join your neighbors to come out and hear us play and then follow us around as we parade through the neighborhood. The parade ends at Wedgwood Community Church which hosts a community ice-cream social following the parade. It’s fun for the whole family and a highlight to the kids every year. Come join us! \nShare on FacebookTweetFollow us
URL:https://rainbowcity.org/events/wedgwood-neighborhood-parade-and-ice-cream-social-2023/
LOCATION:Wedgwood Community Church\, 8201 30th Ave NE\, Seattle\, WA\, 98115\, United States
CATEGORIES:Rainbow City Color Guard,Rainbow City Drumline,Rainbow City Marching Band
ATTACH;FMTTYPE=image/jpeg:https://rainbowcity.org/wp-content/uploads/2022/09/Marching-Band-All-Cropped.jpg
ORGANIZER;CN="Rainbow%20City%20Marching%20Band":MAILTO:info@rainbowcity.org
END:VEVENT
END:VCALENDAR