BEGIN:VCALENDAR
VERSION:2.0
PRODID:-//Rainbow City Performing Arts - ECPv6.1.3//NONSGML v1.0//EN
CALSCALE:GREGORIAN
METHOD:PUBLISH
X-WR-CALNAME:Rainbow City Performing Arts
X-ORIGINAL-URL:https://rainbowcity.org
X-WR-CALDESC:Events for Rainbow City Performing Arts
REFRESH-INTERVAL;VALUE=DURATION:PT1H
X-Robots-Tag:noindex
X-PUBLISHED-TTL:PT1H
BEGIN:VTIMEZONE
TZID:America/Los_Angeles
BEGIN:DAYLIGHT
TZOFFSETFROM:-0800
TZOFFSETTO:-0700
TZNAME:PDT
DTSTART:20190310T100000
END:DAYLIGHT
BEGIN:STANDARD
TZOFFSETFROM:-0700
TZOFFSETTO:-0800
TZNAME:PST
DTSTART:20191103T090000
END:STANDARD
END:VTIMEZONE
BEGIN:VEVENT
DTSTART;TZID=America/Los_Angeles:20190611T190000
DTEND;TZID=America/Los_Angeles:20190611T203000
DTSTAMP:20231117T210924
CREATED:20190404T155156Z
LAST-MODIFIED:20230530T043538Z
UID:722-1560279600-1560285000@rainbowcity.org
SUMMARY:Wedgwood Neighborhood Parade and Ice Cream Social
DESCRIPTION:The marching band’s parade season kicks off in the neighborhood that we call home; our Wedgwood neighbors come out to hear us play and follow us around as we parade through the neighborhood. The parade ends at Wedgwood Community Church\, our home for rehearsals year-round\, which hosts a community ice-cream social following the parade. Fun for the whole family! \nShare on FacebookTweetFollow us
URL:https://rainbowcity.org/events/wedgwood-parade-and-ice-cream-social-2019/
LOCATION:Wedgwood Community Church\, 8201 30th Ave NE\, Seattle\, WA\, 98115\, United States
CATEGORIES:Rainbow City Marching Band
ORGANIZER;CN="Rainbow%20City%20Marching%20Band":MAILTO:info@rainbowcity.org
END:VEVENT
END:VCALENDAR